BEGIN:VCALENDAR
PRODID:-//eluceo/ical//2.0/EN
VERSION:2.0
CALSCALE:GREGORIAN
BEGIN:VEVENT
UID:88f88b1d733534762326a6ab9c5fb101
DTSTAMP:20260424T100138Z
SUMMARY:Young researchers present
DESCRIPTION:Website: https://hotellheden.se/
URL:https://goteborg-kungsporten.rotaryklubb.org/en/agenda/show/217649
DTSTART;TZID=Europe/Zurich:20260522T120000
DTEND;TZID=Europe/Zurich:20260522T131500
LOCATION:Hotell Heden\, Sten Sturegatan 1\, 41139 Göteborg\, Sverige
CATEGORIES:Rotary
END:VEVENT
BEGIN:VTIMEZONE
TZID:Europe/Zurich
BEGIN:DAYLIGHT
DTSTART:20260522T120000
TZNAME:CEST
TZOFFSETTO:+0200
TZOFFSETFROM:+0200
END:DAYLIGHT
END:VTIMEZONE
END:VCALENDAR
