BEGIN:VCALENDAR
PRODID:-//eluceo/ical//2.0/EN
VERSION:2.0
CALSCALE:GREGORIAN
BEGIN:VEVENT
UID:3ca646ea56d6505d1973484475acaaae
DTSTAMP:20260424T095749Z
SUMMARY:The seals on the west coast
DESCRIPTION:Website: https://hotellheden.se/
URL:https://goteborg-kungsporten.rotaryklubb.org/en/agenda/show/217675
DTSTART;TZID=Europe/Zurich:20260320T120000
DTEND;TZID=Europe/Zurich:20260320T131500
LOCATION:Hotell Heden\, Sten Sturegatan 1\, 41139 Göteborg\, Sverige
CATEGORIES:Rotary
END:VEVENT
BEGIN:VTIMEZONE
TZID:Europe/Zurich
BEGIN:STANDARD
DTSTART:20260320T120000
TZNAME:CET
TZOFFSETTO:+0100
TZOFFSETFROM:+0100
END:STANDARD
END:VTIMEZONE
END:VCALENDAR
